BEGIN:VCALENDAR
VERSION:2.0
PRODID:-//Raise Your Hands CT - ECPv6.2.8//NONSGML v1.0//EN
CALSCALE:GREGORIAN
METHOD:PUBLISH
X-ORIGINAL-URL:https://raiseyourhandsct.com
X-WR-CALDESC:Events for Raise Your Hands CT
REFRESH-INTERVAL;VALUE=DURATION:PT1H
X-Robots-Tag:noindex
X-PUBLISHED-TTL:PT1H
BEGIN:VTIMEZONE
TZID:UTC
BEGIN:STANDARD
TZOFFSETFROM:+0000
TZOFFSETTO:+0000
TZNAME:UTC
DTSTART:20230101T000000
END:STANDARD
END:VTIMEZONE
BEGIN:VEVENT
DTSTART;TZID=UTC:20240712T200000
DTEND;TZID=UTC:20240712T230000
DTSTAMP:20260419T171209
CREATED:20240521T022555Z
LAST-MODIFIED:20240521T022555Z
UID:1545-1720814400-1720825200@raiseyourhandsct.com
SUMMARY:BON JOVI night at Mohegan Sun's Party on the Patio!
DESCRIPTION:
URL:https://raiseyourhandsct.com/event/bon-jovi-night-at-mohegan-suns-party-on-the-patio/
LOCATION:Mohegan Sun\, 1 Mohegan Sun Blvd\, Uncasville\, CT\, 06382\, United States
ATTACH;FMTTYPE=image/jpeg:https://raiseyourhandsct.com/wp-content/uploads/2024/05/2024-07-12-RYH-Mohgean-Sun-Party.jpg
END:VEVENT
BEGIN:VEVENT
DTSTART;TZID=UTC:20240710T190000
DTEND;TZID=UTC:20240710T203000
DTSTAMP:20260419T171209
CREATED:20240131T235656Z
LAST-MODIFIED:20240710T143358Z
UID:1522-1720638000-1720643400@raiseyourhandsct.com
SUMMARY:Bon Jovi Night returns to Watertown Summer Concert Series!
DESCRIPTION:
URL:https://raiseyourhandsct.com/event/bon-jovi-night-returns-to-watertown-summer-concert-series/
LOCATION:Town of Watertown (Veterans Memorial Park)\, 570 Nova Scotia Hill Rd\, Watertown\, CT\, 06795\, United States
ATTACH;FMTTYPE=image/jpeg:https://raiseyourhandsct.com/wp-content/uploads/2024/01/2024-07-10-RYH-Watertown-v2.jpg
END:VEVENT
BEGIN:VEVENT
DTSTART;TZID=UTC:20240706T210000
DTEND;TZID=UTC:20240706T233000
DTSTAMP:20260419T171209
CREATED:20240131T234453Z
LAST-MODIFIED:20240706T134732Z
UID:1511-1720299600-1720308600@raiseyourhandsct.com
SUMMARY:Bon Jovi Party at The Last Resort!
DESCRIPTION:
URL:https://raiseyourhandsct.com/event/bon-jovi-party-at-the-last-resort/
LOCATION:The Last Resort\, 325 Farnum Pike\, Smithfield\, RI\, 02917\, United States
ATTACH;FMTTYPE=image/jpeg:https://raiseyourhandsct.com/wp-content/uploads/2024/01/2024-07-06-RYH-Last-Resort-3.jpg
END:VEVENT
BEGIN:VEVENT
DTSTART;TZID=UTC:20240628T193000
DTEND;TZID=UTC:20240628T213000
DTSTAMP:20260419T171209
CREATED:20231230T212121Z
LAST-MODIFIED:20240628T144154Z
UID:1401-1719603000-1719610200@raiseyourhandsct.com
SUMMARY:Bon Jovi Night at the Monroe Summer Concert Series!
DESCRIPTION:
URL:https://raiseyourhandsct.com/event/bon-jovi-night-at-the-monroe-summer-concert-series/
LOCATION:Town of Monroe\, Wolfe Park\, 285 Cutlers Farm Road\, Monroe\, CT\, 06468\, United States
ATTACH;FMTTYPE=image/jpeg:https://raiseyourhandsct.com/wp-content/uploads/2023/12/2024-06-28-RYH-Monroe-2-1.jpg
END:VEVENT
BEGIN:VEVENT
DTSTART;TZID=UTC:20240622T200000
DTEND;TZID=UTC:20240622T213000
DTSTAMP:20260419T171209
CREATED:20240125T033031Z
LAST-MODIFIED:20240517T212854Z
UID:1483-1719086400-1719091800@raiseyourhandsct.com
SUMMARY:BON JOVI night at Mohegan Sun Wolf Den!
DESCRIPTION:
URL:https://raiseyourhandsct.com/event/bon-jovi-night-at-mohegan-sun-wolf-den/
LOCATION:Mohegan Sun\, 1 Mohegan Sun Blvd\, Uncasville\, CT\, 06382\, United States
ATTACH;FMTTYPE=image/jpeg:https://raiseyourhandsct.com/wp-content/uploads/2024/01/2024-06-22-RYH-Wolf-Den-2.jpg
END:VEVENT
BEGIN:VEVENT
DTSTART;TZID=UTC:20240615T200000
DTEND;TZID=UTC:20240615T213000
DTSTAMP:20260419T171209
CREATED:20240513T013615Z
LAST-MODIFIED:20240514T131654Z
UID:1539-1718481600-1718487000@raiseyourhandsct.com
SUMMARY:RYH Rocks Ludlow's 250th Block Party Picnic Celebration!
DESCRIPTION:
URL:https://raiseyourhandsct.com/event/ryh-rocks-ludlows-250th-block-party-picnic-celebration/
LOCATION:Town of Ludlow\, MA\, Veteran’s Memorial Park\, 11 East Street\, Ludlow\, MA\, 01056\, United States
ATTACH;FMTTYPE=image/jpeg:https://raiseyourhandsct.com/wp-content/uploads/2024/05/2024-06-15-RYH-Ludlow-v5.jpg
END:VEVENT
BEGIN:VEVENT
DTSTART;TZID=UTC:20240525T180000
DTEND;TZID=UTC:20240525T203000
DTSTAMP:20260419T171209
CREATED:20231230T223219Z
LAST-MODIFIED:20231230T223219Z
UID:1407-1716660000-1716669000@raiseyourhandsct.com
SUMMARY:Bon Jovi Night on Stratton Mountain!
DESCRIPTION:
URL:https://raiseyourhandsct.com/event/bon-jovi-night-on-stratton-mountain/
LOCATION:Stratton Mountain Resort\, 5 Village Lodge Road\, Stratton Mountain\, VT\, 05155\, United States
ATTACH;FMTTYPE=image/jpeg:https://raiseyourhandsct.com/wp-content/uploads/2023/12/2024-05-25-RYH-Stratton.jpg
END:VEVENT
BEGIN:VEVENT
DTSTART;TZID=UTC:20240518T210000
DTEND;TZID=UTC:20240518T233000
DTSTAMP:20260419T171209
CREATED:20240131T224654Z
LAST-MODIFIED:20240131T234019Z
UID:1506-1716066000-1716075000@raiseyourhandsct.com
SUMMARY:Bon Jovi Night at Rocking Horse Smokehouse!
DESCRIPTION:
URL:https://raiseyourhandsct.com/event/bon-jovi-night-at-rocking-horse-smokehouse/
LOCATION:Rocking Horse Bar & Grill\, 57 Hartford Turnpike\, Vernon\, CT\, 06066\, United States
ATTACH;FMTTYPE=image/jpeg:https://raiseyourhandsct.com/wp-content/uploads/2024/01/2024-05-18-RYH-Rocking-Horse.jpg
END:VEVENT
BEGIN:VEVENT
DTSTART;TZID=UTC:20240511T210000
DTEND;TZID=UTC:20240512T000000
DTSTAMP:20260419T171209
CREATED:20240320T174812Z
LAST-MODIFIED:20240320T175028Z
UID:1528-1715461200-1715472000@raiseyourhandsct.com
SUMMARY:Bon Jovi Night at Rascals!
DESCRIPTION:
URL:https://raiseyourhandsct.com/event/bon-jovi-night-at-rascals-in-worcester/
LOCATION:Rascals\, 70 James Street\, Worcester\, MA\, 01603\, United States
ATTACH;FMTTYPE=image/jpeg:https://raiseyourhandsct.com/wp-content/uploads/2024/03/2024-05-11-RYH-Rascals.jpg
END:VEVENT
BEGIN:VEVENT
DTSTART;TZID=UTC:20240419T193000
DTEND;TZID=UTC:20240419T210000
DTSTAMP:20260419T171209
CREATED:20240103T212414Z
LAST-MODIFIED:20240419T153551Z
UID:1412-1713555000-1713560400@raiseyourhandsct.com
SUMMARY:Bon Jovi Night at Courthouse Center for the Arts!
DESCRIPTION:
URL:https://raiseyourhandsct.com/event/bon-jovi-night-at-courthouse-center-for-the-arts/
LOCATION:Courthouse Center for the Arts\, 3481 Kingstown Road\, West Kingston\, RI\, 02892\, United States
ATTACH;FMTTYPE=image/jpeg:https://raiseyourhandsct.com/wp-content/uploads/2024/01/2024-04-19-RYH-Courthouse-2.jpg
END:VEVENT
BEGIN:VEVENT
DTSTART;TZID=UTC:20240413T190000
DTEND;TZID=UTC:20240413T220000
DTSTAMP:20260419T171209
CREATED:20231230T201211Z
LAST-MODIFIED:20240409T191209Z
UID:1387-1713034800-1713045600@raiseyourhandsct.com
SUMMARY:Bon Jovi Night at Sonny’s! (ALL AGES! NO COVER!)
DESCRIPTION:
URL:https://raiseyourhandsct.com/event/bon-jovi-night-at-sonnys-place-all-ages-no-cover/
LOCATION:Sonny’s Place\, 349 Main Street\, CT-190\, Somers\, CT\, 06071\, United States
ATTACH;FMTTYPE=image/jpeg:https://raiseyourhandsct.com/wp-content/uploads/2023/12/2024-04-13-RYH-Sonnys-v2.jpg
END:VEVENT
BEGIN:VEVENT
DTSTART;TZID=UTC:20240329T200000
DTEND;TZID=UTC:20240329T220000
DTSTAMP:20260419T171209
CREATED:20231212T191505Z
LAST-MODIFIED:20231212T191812Z
UID:1379-1711742400-1711749600@raiseyourhandsct.com
SUMMARY:Bon Jovi Night at Westfield River Brewing Company!
DESCRIPTION:
URL:https://raiseyourhandsct.com/event/bon-jovi-night-at-westfield-river-brewing-company/
LOCATION:Westfield River Brewing Company\, 707 College Hwy\, Southwick\, MA\, 01077\, United States
ATTACH;FMTTYPE=image/jpeg:https://raiseyourhandsct.com/wp-content/uploads/2023/12/2023-03-29-RYH-WRBC.jpg
END:VEVENT
BEGIN:VEVENT
DTSTART;TZID=UTC:20240322T200000
DTEND;TZID=UTC:20240322T230000
DTSTAMP:20260419T171209
CREATED:20231208T201630Z
LAST-MODIFIED:20231208T201630Z
UID:1368-1711137600-1711148400@raiseyourhandsct.com
SUMMARY:Bon Jovi Party with Raise Your Hands!
DESCRIPTION:
URL:https://raiseyourhandsct.com/event/bon-jovi-party-with-raise-your-hands-2/
LOCATION:Crystal Bees\, 240 Spring Street\, Southington\, CT\, 06489\, United States
ATTACH;FMTTYPE=image/jpeg:https://raiseyourhandsct.com/wp-content/uploads/2023/12/2024-03-22-RYH-Crystal-Bees.jpg
END:VEVENT
BEGIN:VEVENT
DTSTART;TZID=UTC:20240316T200000
DTEND;TZID=UTC:20240316T223000
DTSTAMP:20260419T171209
CREATED:20231208T202734Z
LAST-MODIFIED:20231212T191838Z
UID:1374-1710619200-1710628200@raiseyourhandsct.com
SUMMARY:Bon Jovi Night at the Dunellen Theatre!
DESCRIPTION:
URL:https://raiseyourhandsct.com/event/bon-jovi-night-at-the-dunellen-theatre/
LOCATION:Dunellen Theatre\, 458 North Ave\, Dunellen\, NJ\, 08812\, United States
ATTACH;FMTTYPE=image/jpeg:https://raiseyourhandsct.com/wp-content/uploads/2023/12/2024-03-16-RYH-Dunnellen-Theatre.jpg
END:VEVENT
BEGIN:VEVENT
DTSTART;TZID=UTC:20240203T200000
DTEND;TZID=UTC:20240203T220000
DTSTAMP:20260419T171209
CREATED:20231207T171502Z
LAST-MODIFIED:20231207T171955Z
UID:1236-1706990400-1706997600@raiseyourhandsct.com
SUMMARY:Bon Jovi Night at Off The Rails!
DESCRIPTION:
URL:https://raiseyourhandsct.com/event/bon-jovi-night-at-off-the-rails/
LOCATION:Off The Rails\, 90 Commercial Street\, Worcester\, MA\, 01608-1525\, United States
ATTACH;FMTTYPE=image/jpeg:https://raiseyourhandsct.com/wp-content/uploads/2023/12/2024-02-03-RYH-OTR-FB.jpg
END:VEVENT
BEGIN:VEVENT
DTSTART;TZID=UTC:20240127T200000
DTEND;TZID=UTC:20240127T220000
DTSTAMP:20260419T171209
CREATED:20231114T224653Z
LAST-MODIFIED:20240126T210128Z
UID:1244-1706385600-1706392800@raiseyourhandsct.com
SUMMARY:Bon Jovi Night at The Strand Theatre! w/SG Johnny Clifford (Tom Petty)
DESCRIPTION:
URL:https://raiseyourhandsct.com/event/bon-jovi-night-at-the-strand-theatre-2/
LOCATION:The Strand Theatre\, 210 Main Street\, Hudson Falls\, NY\, 12839\, United States
ATTACH;FMTTYPE=image/jpeg:https://raiseyourhandsct.com/wp-content/uploads/2023/11/2024-01-27-RYH-Strand-v2.jpg
END:VEVENT
BEGIN:VEVENT
DTSTART;TZID=UTC:20240114T160000
DTEND;TZID=UTC:20240114T200000
DTSTAMP:20260419T171209
CREATED:20231114T224434Z
LAST-MODIFIED:20231114T231154Z
UID:1241-1705248000-1705262400@raiseyourhandsct.com
SUMMARY:ALL AGES 80's Rock Show with "Shot of Poison" & "Raise Your Hands"!
DESCRIPTION:
URL:https://raiseyourhandsct.com/event/80s-rock-show-with-shot-of-poison-raise-your-hands/
LOCATION:Four Seasons By The Lake\, 51 Old Springfield Road\, Stafford Springs\, CT\, 06076\, United States
ATTACH;FMTTYPE=image/jpeg:https://raiseyourhandsct.com/wp-content/uploads/2023/11/2024-01-14-Four-Seasons-v3.jpg
END:VEVENT
BEGIN:VEVENT
DTSTART;TZID=UTC:20231229T200000
DTEND;TZID=UTC:20231229T213000
DTSTAMP:20260419T171209
CREATED:20230207T234728Z
LAST-MODIFIED:20230208T232205Z
UID:1113-1703880000-1703885400@raiseyourhandsct.com
SUMMARY:Bon Jovi Night at Mohegan Sun
DESCRIPTION:
URL:https://raiseyourhandsct.com/event/bon-jovi-night-at-mohegan-sun-3/
LOCATION:Mohegan Sun\, 1 Mohegan Sun Blvd\, Uncasville\, CT\, 06382\, United States
ATTACH;FMTTYPE=image/jpeg:https://raiseyourhandsct.com/wp-content/uploads/2023/02/2023-12-29-RYH-Mohegan-Sun.jpg
END:VEVENT
BEGIN:VEVENT
DTSTART;TZID=UTC:20231111T193000
DTEND;TZID=UTC:20231111T223000
DTSTAMP:20260419T171209
CREATED:20230904T180629Z
LAST-MODIFIED:20230904T180629Z
UID:1187-1699731000-1699741800@raiseyourhandsct.com
SUMMARY:Bon Jovi Night at Cohoes Music Hall!
DESCRIPTION:
URL:https://raiseyourhandsct.com/event/bon-jovi-night-at-cohoes-music-hall/
LOCATION:Cohoes Music Hall\, 58 Remsen St.\, Cohoes\, NY\, 12047\, United States
ATTACH;FMTTYPE=image/jpeg:https://raiseyourhandsct.com/wp-content/uploads/2023/09/2023-11-11-Cohoes-Music-Hall.jpg
END:VEVENT
BEGIN:VEVENT
DTSTART;TZID=UTC:20231021T200000
DTEND;TZID=UTC:20231021T223000
DTSTAMP:20260419T171209
CREATED:20230505T151712Z
LAST-MODIFIED:20230505T151818Z
UID:1156-1697918400-1697927400@raiseyourhandsct.com
SUMMARY:BON JOVI night at the Double Barrel Roadhouse!
DESCRIPTION:
URL:https://raiseyourhandsct.com/event/bon-jovi-night-at-the-double-barrel-roadhouse-2/
LOCATION:Double Barrel Roadhouse\, 3290 Cape Horn Rd\, Red Lion\, PA\, 17356\, United States
ATTACH;FMTTYPE=image/jpeg:https://raiseyourhandsct.com/wp-content/uploads/2023/05/2023-10-21-RYH-Double-Barrel.jpg
END:VEVENT
BEGIN:VEVENT
DTSTART;TZID=UTC:20230929T200000
DTEND;TZID=UTC:20230929T230000
DTSTAMP:20260419T171209
CREATED:20230404T014110Z
LAST-MODIFIED:20230802T185522Z
UID:1128-1696017600-1696028400@raiseyourhandsct.com
SUMMARY:Bon Jovi Party with Raise Your Hands w/SG Sunset Stripped!
DESCRIPTION:
URL:https://raiseyourhandsct.com/event/bon-jovi-party-with-raise-your-hands2/
LOCATION:Crystal Bees\, 240 Spring Street\, Southington\, CT\, 06489\, United States
ATTACH;FMTTYPE=image/jpeg:https://raiseyourhandsct.com/wp-content/uploads/2023/04/2023-09-27-RYH-@-Crystal-Bees-v2.jpg
END:VEVENT
BEGIN:VEVENT
DTSTART;TZID=UTC:20230917T200000
DTEND;TZID=UTC:20230917T220000
DTSTAMP:20260419T171209
CREATED:20230426T221056Z
LAST-MODIFIED:20230426T221056Z
UID:1147-1694980800-1694988000@raiseyourhandsct.com
SUMMARY:Bon Jovi Night at The Milton Theatre!
DESCRIPTION:
URL:https://raiseyourhandsct.com/event/bon-jovi-night-at-the-milton-theatre/
LOCATION:The Milton Theatre\, 110 Union Street\, Milton\, DE\, 19968\, United States
ATTACH;FMTTYPE=image/jpeg:https://raiseyourhandsct.com/wp-content/uploads/2023/04/2023-09-17-RYH-Milton-Theater-v3.jpg
END:VEVENT
BEGIN:VEVENT
DTSTART;TZID=UTC:20230903T190000
DTEND;TZID=UTC:20230903T204500
DTSTAMP:20260419T171209
CREATED:20230507T203849Z
LAST-MODIFIED:20230507T203849Z
UID:1166-1693767600-1693773900@raiseyourhandsct.com
SUMMARY:Bon Jovi Night at the Columbia County Fair!
DESCRIPTION:
URL:https://raiseyourhandsct.com/event/bon-jovi-night-at-the-columbia-county-fair/
LOCATION:Columbia County Fair\, 32 Church St Route 203\, Chatham\, NY\, 12037\, United States
ATTACH;FMTTYPE=image/jpeg:https://raiseyourhandsct.com/wp-content/uploads/2023/05/2023-09-03-RYH-Columbia-County-Fair-v3.jpg
END:VEVENT
BEGIN:VEVENT
DTSTART;TZID=UTC:20230831T190000
DTEND;TZID=UTC:20230831T210000
DTSTAMP:20260419T171209
CREATED:20230208T232037Z
LAST-MODIFIED:20230714T142726Z
UID:1118-1693508400-1693515600@raiseyourhandsct.com
SUMMARY:Bon Jovi Night Rocks the Meriden Summer Concert Series!!
DESCRIPTION:
URL:https://raiseyourhandsct.com/event/bon-jovi-night-rocks-the-meriden-summer-concert-series/
LOCATION:Meriden Green\, 77 State Street\, Meriden\, CT\, 06450-3215\, United States
ATTACH;FMTTYPE=image/jpeg:https://raiseyourhandsct.com/wp-content/uploads/2023/02/2022-08-31-Merdien-Town-Green-v2.jpg
END:VEVENT
BEGIN:VEVENT
DTSTART;TZID=UTC:20230827T183000
DTEND;TZID=UTC:20230827T203000
DTSTAMP:20260419T171209
CREATED:20230404T023808Z
LAST-MODIFIED:20230404T023808Z
UID:1135-1693161000-1693168200@raiseyourhandsct.com
SUMMARY:Bon Jovi Night at the East Haven Summer Concert Series!
DESCRIPTION:
URL:https://raiseyourhandsct.com/event/bon-jovi-night-at-the-east-haven-summer-concert-series/
LOCATION:Town of East Haven (Town Green Gazebo)\, 300 Hemingway Avenue\, East Haven\, CT\, 06512\, United States
ATTACH;FMTTYPE=image/jpeg:https://raiseyourhandsct.com/wp-content/uploads/2023/04/2023-08-27-RYH-East-Haven.jpg
END:VEVENT
BEGIN:VEVENT
DTSTART;TZID=UTC:20230818T193000
DTEND;TZID=UTC:20230818T230000
DTSTAMP:20260419T171209
CREATED:20230104T162016Z
LAST-MODIFIED:20230719T155603Z
UID:1000-1692387000-1692399600@raiseyourhandsct.com
SUMMARY:Bon Jovi Night at Sonny’s w/SG Hollywood Roxx!!
DESCRIPTION:
URL:https://raiseyourhandsct.com/event/bon-jovi-night-at-sonnys-place-3/
LOCATION:Sonny’s Place\, 349 Main Street\, CT-190\, Somers\, CT\, 06071\, United States
ATTACH;FMTTYPE=image/jpeg:https://raiseyourhandsct.com/wp-content/uploads/2023/01/2022-08-18-RYH-Sonnys-v2.jpg
END:VEVENT
BEGIN:VEVENT
DTSTART;TZID=UTC:20230815T190000
DTEND;TZID=UTC:20230815T210000
DTSTAMP:20260419T171209
CREATED:20230112T224033Z
LAST-MODIFIED:20230112T224033Z
UID:1098-1692126000-1692133200@raiseyourhandsct.com
SUMMARY:Bon Jovi Night on the North Haven Green
DESCRIPTION:
URL:https://raiseyourhandsct.com/event/bon-jovi-night-on-the-north-haven-green/
LOCATION:North Haven Green\, 18 Church Street\, North Haven\, CT\, 06473\, United States
ATTACH;FMTTYPE=image/jpeg:https://raiseyourhandsct.com/wp-content/uploads/2023/01/2023-08-15-RYH-North-Haven-Green.jpg
END:VEVENT
BEGIN:VEVENT
DTSTART;TZID=UTC:20230802T200000
DTEND;TZID=UTC:20230802T213000
DTSTAMP:20260419T171209
CREATED:20230104T163850Z
LAST-MODIFIED:20230104T164231Z
UID:1015-1691006400-1691011800@raiseyourhandsct.com
SUMMARY:Bon Jovi Night at the Prospect Summer Concert Series
DESCRIPTION:
URL:https://raiseyourhandsct.com/event/bon-jovi-night-at-the-prospect-summer-concert-series/
LOCATION:Town of Prospect\, CT\, 19 Center Street\, Prospect\, CT\, 06712\, United States
ATTACH;FMTTYPE=image/jpeg:https://raiseyourhandsct.com/wp-content/uploads/2023/01/2023-08-02-RYH-Prospect.jpg
END:VEVENT
BEGIN:VEVENT
DTSTART;TZID=UTC:20230727T200000
DTEND;TZID=UTC:20230727T213000
DTSTAMP:20260419T171209
CREATED:20230104T164129Z
LAST-MODIFIED:20230104T164129Z
UID:1019-1690488000-1690493400@raiseyourhandsct.com
SUMMARY:Bon Jovi Night at Mohegan Sun
DESCRIPTION:
URL:https://raiseyourhandsct.com/event/bon-jovi-night-at-mohegan-sun-2/
LOCATION:Mohegan Sun\, 1 Mohegan Sun Blvd\, Uncasville\, CT\, 06382\, United States
ATTACH;FMTTYPE=image/jpeg:https://raiseyourhandsct.com/wp-content/uploads/2023/01/2023-07-27-RYH-Mohegan-Sun.jpg
END:VEVENT
BEGIN:VEVENT
DTSTART;TZID=UTC:20230719T190000
DTEND;TZID=UTC:20230719T203000
DTSTAMP:20260419T171209
CREATED:20230110T141305Z
LAST-MODIFIED:20230110T144552Z
UID:1055-1689793200-1689798600@raiseyourhandsct.com
SUMMARY:Bon Jovi Night at Watertown Summer Concert Series
DESCRIPTION:
URL:https://raiseyourhandsct.com/event/bon-jovi-night-at-watertown-summer-concert-series/
LOCATION:Town of Watertown (Veterans Memorial Park)\, 570 Nova Scotia Hill Rd\, Watertown\, CT\, 06795\, United States
ATTACH;FMTTYPE=image/jpeg:https://raiseyourhandsct.com/wp-content/uploads/2023/01/2023-07-19-Watertown-Veterans-Park.jpg
END:VEVENT
END:VCALENDAR