BEGIN:VCALENDAR
VERSION:2.0
PRODID:-//Raise Your Hands CT - ECPv6.2.8//NONSGML v1.0//EN
CALSCALE:GREGORIAN
METHOD:PUBLISH
X-ORIGINAL-URL:https://raiseyourhandsct.com
X-WR-CALDESC:Events for Raise Your Hands CT
REFRESH-INTERVAL;VALUE=DURATION:PT1H
X-Robots-Tag:noindex
X-PUBLISHED-TTL:PT1H
BEGIN:VTIMEZONE
TZID:UTC
BEGIN:STANDARD
TZOFFSETFROM:+0000
TZOFFSETTO:+0000
TZNAME:UTC
DTSTART:20240101T000000
END:STANDARD
END:VTIMEZONE
BEGIN:VEVENT
DTSTART;TZID=UTC:20251005T180000
DTEND;TZID=UTC:20251005T200000
DTSTAMP:20260419T122405
CREATED:20250527T170947Z
LAST-MODIFIED:20250924T165243Z
UID:1840-1759687200-1759694400@raiseyourhandsct.com
SUMMARY:Bon Jovi Night at the East Haven Summer Concert Series! (Rescheduled Date!)
DESCRIPTION:
URL:https://raiseyourhandsct.com/event/bon-jovi-night-at-the-east-haven-summer-concert-series-2/
LOCATION:Town of East Haven (Town Green Gazebo)\, 300 Hemingway Avenue\, East Haven\, CT\, 06512\, United States
ATTACH;FMTTYPE=image/jpeg:https://raiseyourhandsct.com/wp-content/uploads/2025/05/2025-10-05-RYH-Town-Of-East-Haven.jpg
END:VEVENT
BEGIN:VEVENT
DTSTART;TZID=UTC:20250906T190000
DTEND;TZID=UTC:20250906T210000
DTSTAMP:20260419T122405
CREATED:20250211T025440Z
LAST-MODIFIED:20250211T025440Z
UID:1724-1757185200-1757192400@raiseyourhandsct.com
SUMMARY:Bon Jovi Night at the Hebron Harvest Fair!
DESCRIPTION:
URL:https://raiseyourhandsct.com/event/bon-jovi-night-at-the-hebron-harvest-fair-2/
LOCATION:Hebron Harvest Fair\, 347 Gilead St\, Hebron\, CT\, Hebron\, CT\, 06248\, United States
ATTACH;FMTTYPE=image/jpeg:https://raiseyourhandsct.com/wp-content/uploads/2025/02/2025-09-06-RYH-Hebron-Fair.jpg
END:VEVENT
BEGIN:VEVENT
DTSTART;TZID=UTC:20250826T190000
DTEND;TZID=UTC:20250826T203000
DTSTAMP:20260419T122405
CREATED:20250607T024534Z
LAST-MODIFIED:20250607T024534Z
UID:1844-1756234800-1756240200@raiseyourhandsct.com
SUMMARY:Bon Jovi Night on the North Haven Green!
DESCRIPTION:
URL:https://raiseyourhandsct.com/event/bon-jovi-night-on-the-north-haven-green-3/
LOCATION:North Haven Green\, 18 Church Street\, North Haven\, CT\, 06473\, United States
ATTACH;FMTTYPE=image/jpeg:https://raiseyourhandsct.com/wp-content/uploads/2025/06/2025-08-26-RYH-North-Haven-Green.jpg
END:VEVENT
BEGIN:VEVENT
DTSTART;TZID=UTC:20250823T193000
DTEND;TZID=UTC:20250823T220000
DTSTAMP:20260419T122405
CREATED:20250101T191413Z
LAST-MODIFIED:20250101T191413Z
UID:1638-1755977400-1755986400@raiseyourhandsct.com
SUMMARY:Bon Jovi Night at The Bradley Playhouse!
DESCRIPTION:
URL:https://raiseyourhandsct.com/event/bon-jovi-night-at-the-bradley-playhouse/
LOCATION:The Bradley Playhouse\, 30 Front Street\, Putnam\, CT\, 06260\, United States
ATTACH;FMTTYPE=image/jpeg:https://raiseyourhandsct.com/wp-content/uploads/2025/01/2025-08-23-RYH-Bradley-Playhouse.jpg
END:VEVENT
BEGIN:VEVENT
DTSTART;TZID=UTC:20250821T190000
DTEND;TZID=UTC:20250821T203000
DTSTAMP:20260419T122405
CREATED:20250117T173536Z
LAST-MODIFIED:20250819T184739Z
UID:1682-1755802800-1755808200@raiseyourhandsct.com
SUMMARY:Bon Jovi Night at the Prospect Summer Concert Series!
DESCRIPTION:
URL:https://raiseyourhandsct.com/event/bon-jovi-night-at-the-prospect-summer-concert-series-3/
LOCATION:Town of Prospect\, CT\, 19 Center Street\, Prospect\, CT\, 06712\, United States
ATTACH;FMTTYPE=image/jpeg:https://raiseyourhandsct.com/wp-content/uploads/2025/01/2025-08-21-RYH-Prospect.jpg
END:VEVENT
BEGIN:VEVENT
DTSTART;TZID=UTC:20250802T170000
DTEND;TZID=UTC:20250802T190000
DTSTAMP:20260419T122405
CREATED:20250115T025952Z
LAST-MODIFIED:20250730T221826Z
UID:1678-1754154000-1754161200@raiseyourhandsct.com
SUMMARY:RYH Rocks the Charlestown Seafood Festival!
DESCRIPTION:
URL:https://raiseyourhandsct.com/event/ryh-rocks-the-charlestown-seafood-festival/
LOCATION:Charlestown Seafood Festival\, Ninigret Park\, 7 Park Lane\, Charlestown\, RI\, 02813\, United States
ATTACH;FMTTYPE=image/jpeg:https://raiseyourhandsct.com/wp-content/uploads/2025/01/2025-08-02-RYH-CharlestownSeafood-v3.jpg
END:VEVENT
BEGIN:VEVENT
DTSTART;TZID=UTC:20250723T190000
DTEND;TZID=UTC:20250723T203000
DTSTAMP:20260419T122405
CREATED:20250318T024441Z
LAST-MODIFIED:20250318T024441Z
UID:1786-1753297200-1753302600@raiseyourhandsct.com
SUMMARY:Bon Jovi Night at Wallingford's Twilight Tunes Concert Series!
DESCRIPTION:
URL:https://raiseyourhandsct.com/event/bon-jovi-night-at-wallingfords-twilight-tunes-concert-series/
LOCATION:Town of Wallingford\, CT\, Parade Grounds\, 23 S Main St\, Wallingford\, CT\, 06492\, United States
ATTACH;FMTTYPE=image/jpeg:https://raiseyourhandsct.com/wp-content/uploads/2025/03/2025-07-23-RYH-Wallingford.jpg
END:VEVENT
BEGIN:VEVENT
DTSTART;TZID=UTC:20250719T200000
DTEND;TZID=UTC:20250719T220000
DTSTAMP:20260419T122405
CREATED:20250212T032111Z
LAST-MODIFIED:20250608T193701Z
UID:1729-1752955200-1752962400@raiseyourhandsct.com
SUMMARY:Raise Your Hands - Tribute to BON JOVI (Allen Theatre)
DESCRIPTION:
URL:https://raiseyourhandsct.com/event/raise-your-hands-tribute-to-bon-jovi-allen-theatre/
LOCATION:The Allen Theatre\, 36 E Main St\, Annville\, PA\, 17003\, United States
ATTACH;FMTTYPE=image/jpeg:https://raiseyourhandsct.com/wp-content/uploads/2025/02/2025-07-19-RYH-Allen-Theatre.jpg
END:VEVENT
BEGIN:VEVENT
DTSTART;TZID=UTC:20250715T190000
DTEND;TZID=UTC:20250715T203000
DTSTAMP:20260419T122405
CREATED:20250424T141036Z
LAST-MODIFIED:20250424T141036Z
UID:1828-1752606000-1752611400@raiseyourhandsct.com
SUMMARY:Bon Jovi Night at The Enfield Summer Concert Series!
DESCRIPTION:
URL:https://raiseyourhandsct.com/event/bon-jovi-night-at-the-enfield-summer-concert-series/
LOCATION:Town of Enfield\, CT\, 820 Enfield Street\, Enfield\, 06082\, United States
ATTACH;FMTTYPE=image/jpeg:https://raiseyourhandsct.com/wp-content/uploads/2025/04/2025-07-15-RYH-Town-of-Enfield.jpg
END:VEVENT
BEGIN:VEVENT
DTSTART;TZID=UTC:20250712T200000
DTEND;TZID=UTC:20250712T230000
DTSTAMP:20260419T122405
CREATED:20250101T172538Z
LAST-MODIFIED:20250708T033700Z
UID:1633-1752350400-1752361200@raiseyourhandsct.com
SUMMARY:Bon Jovi Night at Sonny's Place!
DESCRIPTION:
URL:https://raiseyourhandsct.com/event/bon-jovi-night-at-sonnys-place-4/
LOCATION:Sonny’s Place\, 349 Main Street\, CT-190\, Somers\, CT\, 06071\, United States
ATTACH;FMTTYPE=image/jpeg:https://raiseyourhandsct.com/wp-content/uploads/2025/01/2025-07-12-RYH-Sonnys-2.jpg
END:VEVENT
BEGIN:VEVENT
DTSTART;TZID=UTC:20250711T170000
DTEND;TZID=UTC:20250711T220000
DTSTAMP:20260419T122405
CREATED:20250608T202213Z
LAST-MODIFIED:20250608T202213Z
UID:1849-1752253200-1752271200@raiseyourhandsct.com
SUMMARY:Summer Fun Fridays w/ Raise Your Hands a Tribute to Bon Jovi
DESCRIPTION:
URL:https://raiseyourhandsct.com/event/summer-fun-fridays-w-raise-your-hands-a-tribute-to-bon-jovi/
LOCATION:Summer In The Park\, 1040 Washington Blvd.\, Stamford\, CT\, 06901\, United States
ATTACH;FMTTYPE=image/jpeg:https://raiseyourhandsct.com/wp-content/uploads/2025/06/2025-07-11-RYH-Stamford-Summer-Fun-Fridays.jpg
END:VEVENT
BEGIN:VEVENT
DTSTART;TZID=UTC:20250703T180000
DTEND;TZID=UTC:20250703T210000
DTSTAMP:20260419T122405
CREATED:20250102T013604Z
LAST-MODIFIED:20250703T133250Z
UID:1660-1751565600-1751576400@raiseyourhandsct.com
SUMMARY:RYH Rocks Destination Bike Night!
DESCRIPTION:
URL:https://raiseyourhandsct.com/event/ryh-rocks-destination-bike-night/
LOCATION:Destination Bike Night (K of C # 69)\, 406 Granby Road\, Chicopee\, MA\, 01013\, United States
ATTACH;FMTTYPE=image/jpeg:https://raiseyourhandsct.com/wp-content/uploads/2025/01/2025-07-03-RYH-Bike-Night-Canceled.jpg
END:VEVENT
BEGIN:VEVENT
DTSTART;TZID=UTC:20250627T200000
DTEND;TZID=UTC:20250627T230000
DTSTAMP:20260419T122405
CREATED:20250325T193824Z
LAST-MODIFIED:20250325T193824Z
UID:1791-1751054400-1751065200@raiseyourhandsct.com
SUMMARY:BON JOVI night at Mohegan Sun's Party on the Patio!
DESCRIPTION:
URL:https://raiseyourhandsct.com/event/bon-jovi-night-at-mohegan-suns-party-on-the-patio-2/
LOCATION:Mohegan Sun\, 1 Mohegan Sun Blvd\, Uncasville\, CT\, 06382\, United States
ATTACH;FMTTYPE=image/jpeg:https://raiseyourhandsct.com/wp-content/uploads/2025/03/2025-06-27-RYH-Mohgean-Sun-Party.jpg
END:VEVENT
BEGIN:VEVENT
DTSTART;TZID=UTC:20250622T190000
DTEND;TZID=UTC:20250622T203000
DTSTAMP:20260419T122405
CREATED:20250211T025122Z
LAST-MODIFIED:20250211T025122Z
UID:1721-1750618800-1750624200@raiseyourhandsct.com
SUMMARY:BON JOVI night at Mohegan Sun Wolf Den!
DESCRIPTION:
URL:https://raiseyourhandsct.com/event/bon-jovi-night-at-mohegan-sun-wolf-den-3/
LOCATION:Mohegan Sun\, 1 Mohegan Sun Blvd\, Uncasville\, CT\, 06382\, United States
ATTACH;FMTTYPE=image/jpeg:https://raiseyourhandsct.com/wp-content/uploads/2025/02/2025-06-22-RYH-Mohegan-Sun.jpg
END:VEVENT
BEGIN:VEVENT
DTSTART;TZID=UTC:20250621T190000
DTEND;TZID=UTC:20250621T210000
DTSTAMP:20260419T122405
CREATED:20250424T151401Z
LAST-MODIFIED:20250424T151827Z
UID:1836-1750532400-1750539600@raiseyourhandsct.com
SUMMARY:Raise Your Hands: A Tribute to Bon Jovi (Off The Rails Outdoors)
DESCRIPTION:
URL:https://raiseyourhandsct.com/event/raise-your-hands-a-tribute-to-bon-jovi-off-the-rails-outdoors/
LOCATION:Off The Rails\, 90 Commercial Street\, Worcester\, MA\, 01608-1525\, United States
ATTACH;FMTTYPE=image/jpeg:https://raiseyourhandsct.com/wp-content/uploads/2025/04/2025-06-21-RYH-OTR-Outdoors.jpg
END:VEVENT
BEGIN:VEVENT
DTSTART;TZID=UTC:20250607T203000
DTEND;TZID=UTC:20250607T230000
DTSTAMP:20260419T122405
CREATED:20250318T000018Z
LAST-MODIFIED:20250318T010202Z
UID:1761-1749328200-1749337200@raiseyourhandsct.com
SUMMARY:BON JOVI night at The Simple Man Saloon!
DESCRIPTION:
URL:https://raiseyourhandsct.com/event/bon-jovi-night-at-the-simple-man-saloon/
LOCATION:The Simple Man Saloon & Grill\, 119 High St\, Clinton\, MA\, 01510\, United States
ATTACH;FMTTYPE=image/jpeg:https://raiseyourhandsct.com/wp-content/uploads/2025/03/2025-06-07-RYH-Simple-Man-Saloon-v2.jpg
END:VEVENT
BEGIN:VEVENT
DTSTART;TZID=UTC:20250604T190000
DTEND;TZID=UTC:20250604T210000
DTSTAMP:20260419T122405
CREATED:20250109T134216Z
LAST-MODIFIED:20250109T134216Z
UID:1668-1749063600-1749070800@raiseyourhandsct.com
SUMMARY:Bon Jovi Night at the Penn Community Bank Amphitheater!
DESCRIPTION:
URL:https://raiseyourhandsct.com/event/bon-jovi-night-at-the-penn-community-bank-amphitheater/
LOCATION:Penn Community Bank Amphitheater\, 2400 Byberry Road\, Bensalem\, PA\, 19020\, United States
ATTACH;FMTTYPE=image/jpeg:https://raiseyourhandsct.com/wp-content/uploads/2025/01/2025-06-04-RYH-Penn-Community-Bank-Amphitheater-v2.jpg
END:VEVENT
BEGIN:VEVENT
DTSTART;TZID=UTC:20250517T150000
DTEND;TZID=UTC:20250517T170000
DTSTAMP:20260419T122405
CREATED:20250101T234647Z
LAST-MODIFIED:20250430T014143Z
UID:1652-1747494000-1747501200@raiseyourhandsct.com
SUMMARY:RYH Rocks the Connecticut Food Truck Battles Festival
DESCRIPTION:
URL:https://raiseyourhandsct.com/event/ryh-rocks-the-connecticut-food-truck-battles-festival/
LOCATION:Connecticut Food Truck Battles Festival\, 201 Nicoles Rd\, Wolcott\, CT\, Wolcott\, CT\, 06716\, United States
ATTACH;FMTTYPE=image/jpeg:https://raiseyourhandsct.com/wp-content/uploads/2025/01/2025-05-17-RYH-Food-Truck-Battles.jpg
END:VEVENT
BEGIN:VEVENT
DTSTART;TZID=UTC:20250503T160000
DTEND;TZID=UTC:20250503T190000
DTSTAMP:20260419T122405
CREATED:20250405T042456Z
LAST-MODIFIED:20250423T152545Z
UID:1820-1746288000-1746298800@raiseyourhandsct.com
SUMMARY:Bon Jovi Tribute Raise Your Hands LIVE On Derby Day
DESCRIPTION:
URL:https://raiseyourhandsct.com/event/bon-jovi-tribute-raise-your-hands-live-on-derby-day/
LOCATION:Plainridge Park Casino\, 301 Washington Street\, Plainville\, MA\, 02762\, United States
ATTACH;FMTTYPE=image/jpeg:https://raiseyourhandsct.com/wp-content/uploads/2025/04/2025-05-03-RYH-PPC-Derby-Day-v2.jpg
END:VEVENT
BEGIN:VEVENT
DTSTART;TZID=UTC:20250412T203000
DTEND;TZID=UTC:20250412T233000
DTSTAMP:20260419T122405
CREATED:20250101T170330Z
LAST-MODIFIED:20250101T170330Z
UID:1630-1744489800-1744500600@raiseyourhandsct.com
SUMMARY:Bon Jovi Night at Rocking Horse w/special guest W.O.W.!
DESCRIPTION:
URL:https://raiseyourhandsct.com/event/bon-jovi-night-at-rocking-horse-w-special-guest-w-o-w/
LOCATION:Rocking Horse Bar & Grill\, 57 Hartford Turnpike\, Vernon\, CT\, 06066\, United States
ATTACH;FMTTYPE=image/jpeg:https://raiseyourhandsct.com/wp-content/uploads/2025/01/2025-04-12-RYH-Rocking-Horse.jpg
END:VEVENT
BEGIN:VEVENT
DTSTART;TZID=UTC:20250329T170000
DTEND;TZID=UTC:20250329T210000
DTSTAMP:20260419T122405
CREATED:20250115T025807Z
LAST-MODIFIED:20250205T202233Z
UID:1675-1743267600-1743282000@raiseyourhandsct.com
SUMMARY:A Tribute to Bon Jovi
DESCRIPTION:
URL:https://raiseyourhandsct.com/event/a-tribute-to-bon-jovi/
LOCATION:Water’s Edge Resort & Spa\, 1525 Boston Post Rd\, Westbrook\, CT\, 06498\, United States
ATTACH;FMTTYPE=image/jpeg:https://raiseyourhandsct.com/wp-content/uploads/2025/01/2025-03-29-RYH-Waters-Edge.jpg
END:VEVENT
BEGIN:VEVENT
DTSTART;TZID=UTC:20250301T190000
DTEND;TZID=UTC:20250301T220000
DTSTAMP:20260419T122405
CREATED:20250123T164858Z
LAST-MODIFIED:20250220T033101Z
UID:1686-1740855600-1740866400@raiseyourhandsct.com
SUMMARY:Bon Jovi Night at Off The Rails in Worcester\, MA!
DESCRIPTION:
URL:https://raiseyourhandsct.com/event/bon-jovi-night-in-worcester-at-off-the-rails/
LOCATION:Off The Rails\, 90 Commercial Street\, Worcester\, MA\, 01608-1525\, United States
ATTACH;FMTTYPE=image/jpeg:https://raiseyourhandsct.com/wp-content/uploads/2025/01/2025-03-01-RYH-Off-The-Rails.jpg
END:VEVENT
BEGIN:VEVENT
DTSTART;TZID=UTC:20250222T193000
DTEND;TZID=UTC:20250222T213000
DTSTAMP:20260419T122405
CREATED:20250101T161307Z
LAST-MODIFIED:20250220T032913Z
UID:1627-1740252600-1740259800@raiseyourhandsct.com
SUMMARY:Bon Jovi Night at Courthouse Center for the Arts!
DESCRIPTION:
URL:https://raiseyourhandsct.com/event/bon-jovi-night-at-courthouse-center-for-the-arts-2/
LOCATION:Courthouse Center for the Arts\, 3481 Kingstown Road\, West Kingston\, RI\, 02892\, United States
ATTACH;FMTTYPE=image/jpeg:https://raiseyourhandsct.com/wp-content/uploads/2025/01/2025-02-22-RYH-Courthouse-Center.jpg
END:VEVENT
BEGIN:VEVENT
DTSTART;TZID=UTC:20250215T200000
DTEND;TZID=UTC:20250215T220000
DTSTAMP:20260419T122405
CREATED:20250102T003956Z
LAST-MODIFIED:20250102T153901Z
UID:1655-1739649600-1739656800@raiseyourhandsct.com
SUMMARY:Private Event (MA)
DESCRIPTION:Raise Your Hands is available for private parties and corporate events. Reach out to inquire about pricing and availability!
URL:https://raiseyourhandsct.com/event/private-party-ma/
LOCATION:CT
ATTACH;FMTTYPE=image/jpeg:https://raiseyourhandsct.com/wp-content/uploads/2025/01/RYH-Private-Event.jpg
END:VEVENT
BEGIN:VEVENT
DTSTART;TZID=UTC:20250201T200000
DTEND;TZID=UTC:20250201T220000
DTSTAMP:20260419T122405
CREATED:20250101T160554Z
LAST-MODIFIED:20250119T165625Z
UID:1623-1738440000-1738447200@raiseyourhandsct.com
SUMMARY:Bon Jovi Night at Seven Angels Theatre!
DESCRIPTION:
URL:https://raiseyourhandsct.com/event/bon-jovi-night-at-seven-angels-theatre/
LOCATION:Seven Angels Theatre\, 1 Plank Rd Hamilton Park\, Waterbury\, CT\, 06705\, United States
ATTACH;FMTTYPE=image/jpeg:https://raiseyourhandsct.com/wp-content/uploads/2025/01/2025-02-01-RYH-Seven-Angels.jpg
END:VEVENT
BEGIN:VEVENT
DTSTART;TZID=UTC:20241227T200000
DTEND;TZID=UTC:20241227T233000
DTSTAMP:20260419T122405
CREATED:20240831T150455Z
LAST-MODIFIED:20241212T151438Z
UID:1573-1735329600-1735342200@raiseyourhandsct.com
SUMMARY:BON JOVI night at Mohegan Sun Wolf Den!
DESCRIPTION:
URL:https://raiseyourhandsct.com/event/bon-jovi-night-at-mohegan-sun-wolf-den-2/
LOCATION:Mohegan Sun\, 1 Mohegan Sun Blvd\, Uncasville\, CT\, 06382\, United States
ATTACH;FMTTYPE=image/jpeg:https://raiseyourhandsct.com/wp-content/uploads/2024/08/2024-12-27-RYH-Wolf-Den-v3.jpg
END:VEVENT
BEGIN:VEVENT
DTSTART;TZID=UTC:20241221T200000
DTEND;TZID=UTC:20241221T230000
DTSTAMP:20260419T122405
CREATED:20241106T190806Z
LAST-MODIFIED:20241106T190806Z
UID:1613-1734811200-1734822000@raiseyourhandsct.com
SUMMARY:Bon Jovi night at Rascals in Worcester!
DESCRIPTION:
URL:https://raiseyourhandsct.com/event/bon-jovi-night-at-rascals-in-worcester-2/
LOCATION:Rascals\, 70 James Street\, Worcester\, MA\, 01603\, United States
ATTACH;FMTTYPE=image/jpeg:https://raiseyourhandsct.com/wp-content/uploads/2024/11/2024-12-21-RYH-Rascals.jpg
END:VEVENT
BEGIN:VEVENT
DTSTART;TZID=UTC:20241109T200000
DTEND;TZID=UTC:20241109T223000
DTSTAMP:20260419T122405
CREATED:20240831T145917Z
LAST-MODIFIED:20240831T150202Z
UID:1567-1731182400-1731191400@raiseyourhandsct.com
SUMMARY:BON JOVI night at the Double Barrel Roadhouse!
DESCRIPTION:
URL:https://raiseyourhandsct.com/event/bon-jovi-night-at-the-double-barrel-roadhouse-3/
LOCATION:Double Barrel Roadhouse\, 3290 Cape Horn Rd\, Red Lion\, PA\, 17356\, United States
ATTACH;FMTTYPE=image/jpeg:https://raiseyourhandsct.com/wp-content/uploads/2024/08/2024-11-09-RYH-Double-Barrel.jpg
END:VEVENT
BEGIN:VEVENT
DTSTART;TZID=UTC:20241102T210000
DTEND;TZID=UTC:20241102T233000
DTSTAMP:20260419T122405
CREATED:20240831T145647Z
LAST-MODIFIED:20240831T150634Z
UID:1564-1730581200-1730590200@raiseyourhandsct.com
SUMMARY:Bon Jovi Night at Rocking Horse Smokehouse!
DESCRIPTION:
URL:https://raiseyourhandsct.com/event/bon-jovi-night-at-rocking-horse-smokehouse-2/
LOCATION:Rocking Horse Bar & Grill\, 57 Hartford Turnpike\, Vernon\, CT\, 06066\, United States
ATTACH;FMTTYPE=image/jpeg:https://raiseyourhandsct.com/wp-content/uploads/2024/08/2024-11-02-RYH-Rocking-Horse.jpg
END:VEVENT
BEGIN:VEVENT
DTSTART;TZID=UTC:20241025T200000
DTEND;TZID=UTC:20241025T220000
DTSTAMP:20260419T122405
CREATED:20240831T145440Z
LAST-MODIFIED:20240831T150327Z
UID:1561-1729886400-1729893600@raiseyourhandsct.com
SUMMARY:Bon Jovi Night at The Strand Theatre!
DESCRIPTION:
URL:https://raiseyourhandsct.com/event/bon-jovi-night-at-the-strand-theatre-3/
LOCATION:The Strand Theatre\, 210 Main Street\, Hudson Falls\, NY\, 12839\, United States
ATTACH;FMTTYPE=image/jpeg:https://raiseyourhandsct.com/wp-content/uploads/2024/08/2024-10-25-RYH-Strand-Theatre.jpg
END:VEVENT
END:VCALENDAR